BEGIN:VCALENDAR
VERSION:2.0
PRODID:-//chikkutakku.com//RDFCal 1.0//EN
X-WR-CALDESC:GoogleカレンダーやiCalendar形式情報を共有シェ
 アしましょう。近所のイベントから全国のイベントま
 で今日のイベント検索やスケジュールを決めるならち
 っくたっく
X-WR-CALNAME:ちっくたっく
X-WR-TIMEZONE:UTC
BEGIN:VEVENT
SUMMARY:生誕100周年記念 安野光雅展
DTSTART;VALUE=DATE:20260303
DTEND;VALUE=DATE:20260510
UID:103475653787
DESCRIPTION:open 10:00 / end 17:00\n土日祝は18:00まで。会期中無
 休\n＝＝＝＝＝＝＝＝＝＝＝＝＝＝＝＝＝＝＝\n膨大な
 作品を残した安野光雅は、1926年に自然豊かな島根県津
 和野町に生まれ、好奇心にあふれた、絵を描くことが
 大好きな少年でした。戦後は美術教員を務めながら、
 芸術や科学、数学、そして人の営みに興味を持って創
 作を続け、やがて多くの絵本や文章を残す比類なき画
 家となりました。\n本展では『ふしぎなえ』『旅の絵本
 』『天動説の絵本』（いずれも福音館書店）、『おお
 きな ものの すきな おうさま』（講談社）など代表作
 の絵本原画約130点に加え、安野が描いた「風景」「歴
 史」といった普遍的なテーマをとらえ直し、キュレー
 ションするPLAY! 独自の展示空間「絵画館」を設置。さ
 らに、絵を拡大、立体にして視点を変化させるなど、
 多彩な仕掛けを通して安野が絵に込めたメッセージを
 体感できる会場構成です。そのほか、安野から影響を
 受け、現在最前線で活躍するクリエイターたちの言葉
 で未来に語り継ぐ、映像「先生へ」を展示します。\n美
 しい緻密な原画と、ふしぎと発見にあふれる安野ワー
 ルドを体験していただき、安野光雅の創作世界を未来
 へとつなげる展覧会です。\n\n【関連/参考ページ】\nhttp
 s://play2020.jp/article/anno/ （詳細）\nhttps://play2020.jp/museum/ 
 （PLAY! MUSEUM）
LOCATION:PLAY! MUSEUM【関東】
END:VEVENT
END:VCALENDAR
