BEGIN:VCALENDAR
VERSION:2.0
PRODID:-//chikkutakku.com//RDFCal 1.0//EN
X-WR-CALDESC:GoogleカレンダーやiCalendar形式情報を共有シェ
 アしましょう。近所のイベントから全国のイベントま
 で今日のイベント検索やスケジュールを決めるならち
 っくたっく
X-WR-CALNAME:ちっくたっく
X-WR-TIMEZONE:UTC
BEGIN:VEVENT
SUMMARY:仮)しゃんしゃんに向けて会議
DTSTART;VALUE=DATE-TIME:20260424T100000Z
DTEND;VALUE=DATE-TIME:20260424T130000Z
UID:103597116452
DESCRIPTION:▼申込内容\n予約日時: 2026/04/20 11:50:14\nお名前
 　: 磯崎愛(WAKODO)\n予約日　: 2026/04/24(金)\n予約時間: 19:00
 ～22:00
LOCATION:
END:VEVENT
END:VCALENDAR
