BEGIN:VCALENDAR
VERSION:2.0
PRODID:-//chikkutakku.com//RDFCal 1.0//EN
X-WR-CALDESC:GoogleカレンダーやiCalendar形式情報を共有シェ
 アしましょう。近所のイベントから全国のイベントま
 で今日のイベント検索やスケジュールを決めるならち
 っくたっく
X-WR-CALNAME:ちっくたっく
X-WR-TIMEZONE:UTC
BEGIN:VEVENT
SUMMARY:Safari 2026年6月号（レギュラーモデル：ジェシー「
 華麗なる男への道」）
DTSTART;VALUE=DATE:20260423
DTEND;VALUE=DATE:20260424
UID:105121442849
DESCRIPTION:https://hinode-publishing.jp/safari
LOCATION:雑誌
END:VEVENT
END:VCALENDAR
