BEGIN:VCALENDAR
VERSION:2.0
PRODID:-//chikkutakku.com//RDFCal 1.0//EN
X-WR-CALDESC:GoogleカレンダーやiCalendar形式情報を共有シェ
 アしましょう。近所のイベントから全国のイベントま
 で今日のイベント検索やスケジュールを決めるならち
 っくたっく
X-WR-CALNAME:ちっくたっく
X-WR-TIMEZONE:UTC
BEGIN:VEVENT
SUMMARY: 福井 - 信州
DTSTART;VALUE=DATE-TIME:20260425T060500Z
DTEND;VALUE=DATE-TIME:20260425T080500Z
UID:105336511969
DESCRIPTION:
LOCATION:セーレン・ドリームアリーナ（福井県営体育館
 ）
END:VEVENT
END:VCALENDAR
