BEGIN:VCALENDAR
VERSION:2.0
PRODID:-//chikkutakku.com//RDFCal 1.0//EN
X-WR-CALDESC:GoogleカレンダーやiCalendar形式情報を共有シェ
 アしましょう。近所のイベントから全国のイベントま
 で今日のイベント検索やスケジュールを決めるならち
 っくたっく
X-WR-CALNAME:ちっくたっく
X-WR-TIMEZONE:UTC
BEGIN:VEVENT
SUMMARY:WORLD SOCCER DIGEST (ワールドサッカーダイジェスト) 2
 026年 6/4号 [雑誌]
DTSTART;VALUE=DATE:20260520
DTEND;VALUE=DATE:20260521
UID:105476422327
DESCRIPTION:2026-05-21WORLD SOCCER DIGEST (ワールドサッカーダイ
 ジェスト) 2026年 6/4号 [雑誌]日本スポーツ企画出版社
LOCATION:
END:VEVENT
END:VCALENDAR
