BEGIN:VCALENDAR
VERSION:2.0
PRODID:-//chikkutakku.com//RDFCal 1.0//EN
X-WR-CALDESC:GoogleカレンダーやiCalendar形式情報を共有シェ
 アしましょう。近所のイベントから全国のイベントま
 で今日のイベント検索やスケジュールを決めるならち
 っくたっく
X-WR-CALNAME:ちっくたっく
X-WR-TIMEZONE:UTC
BEGIN:VEVENT
SUMMARY: SECONDLIFE FOR AISM 2026       joshua  12pm 
DTSTART;VALUE=DATE-TIME:20260523T190000Z
DTEND;VALUE=DATE-TIME:20260523T200000Z
UID:105606677853
DESCRIPTION: SECONDLIFE FOR AISM 2026       joshua  12pm 
LOCATION:
END:VEVENT
END:VCALENDAR
