BEGIN:VCALENDAR
VERSION:2.0
PRODID:-//chikkutakku.com//RDFCal 1.0//EN
X-WR-CALDESC:GoogleカレンダーやiCalendar形式情報を共有シェ
 アしましょう。近所のイベントから全国のイベントま
 で今日のイベント検索やスケジュールを決めるならち
 っくたっく
X-WR-CALNAME:ちっくたっく
X-WR-TIMEZONE:UTC
BEGIN:VEVENT
SUMMARY:【テニス】大分市　高等学校対抗春季近県ソフト
 テニス大会（1日目）
DTSTART;VALUE=DATE:20260504
DTEND;VALUE=DATE:20260505
UID:106260893115
DESCRIPTION:
LOCATION:テニスコート
END:VEVENT
END:VCALENDAR
