BEGIN:VCALENDAR
VERSION:2.0
PRODID:-//chikkutakku.com//RDFCal 1.0//EN
X-WR-CALDESC:GoogleカレンダーやiCalendar形式情報を共有シェ
 アしましょう。近所のイベントから全国のイベントま
 で今日のイベント検索やスケジュールを決めるならち
 っくたっく
X-WR-CALNAME:ちっくたっく
X-WR-TIMEZONE:UTC
BEGIN:VEVENT
SUMMARY:การทบทวนค่าเป้าหมายตัว
 ชี้วัด ปี 70
DTSTART;VALUE=DATE-TIME:20260423T073000Z
DTEND;VALUE=DATE-TIME:20260423T083000Z
UID:106913476988
DESCRIPTION:1.ผอ กองแผนงาน (นายบุญรั
 ตน์ อินต๊ะพิงค์) \n2.ผู้ช่วยผ
 ู้อำนวยการ (นางเอษณา สุริย
 วงค์) \n3.นางสาววิลาสินี ไกรม
 าก \n4.นางสาวณัฐธาวัลย์ รักษ
 ์เผ่าสุวรรณ \n5.นายอนุุชิต ข
 ัติรัตน์ \n6.นางสาธนาภรณ์ กำ
 แพงแก้ว \n7.นายปภาวิณ ปิณทะย
 า \n8.นางสาวนิตยา ลำเภาพงศ์
LOCATION:ห้องประชุมกองแผนงาน
END:VEVENT
END:VCALENDAR
