BEGIN:VCALENDAR
VERSION:2.0
PRODID:-//chikkutakku.com//RDFCal 1.0//EN
X-WR-CALDESC:GoogleカレンダーやiCalendar形式情報を共有シェ
 アしましょう。近所のイベントから全国のイベントま
 で今日のイベント検索やスケジュールを決めるならち
 っくたっく
X-WR-CALNAME:ちっくたっく
X-WR-TIMEZONE:UTC
BEGIN:VEVENT
SUMMARY:วันเกิดนางสาวกัญจนพร  เ
 ครื่องแก้ว จทน.บันทึกข้อมู
 ล กศน. อำเภอร้องกวาง
DTSTART;VALUE=DATE-TIME:20260503T170000Z
DTEND;VALUE=DATE-TIME:20260504T170000Z
UID:107217912180
DESCRIPTION:วันเกิดนางสาวกัญจนพร  
 เครื่องแก้ว จทน.บันทึกข้อม
 ูล กศน. อำเภอร้องกวาง
LOCATION:
END:VEVENT
END:VCALENDAR
