BEGIN:VCALENDAR
VERSION:2.0
PRODID:-//chikkutakku.com//RDFCal 1.0//EN
X-WR-CALDESC:GoogleカレンダーやiCalendar形式情報を共有シェ
 アしましょう。近所のイベントから全国のイベントま
 で今日のイベント検索やスケジュールを決めるならち
 っくたっく
X-WR-CALNAME:ちっくたっく
X-WR-TIMEZONE:UTC
BEGIN:VEVENT
SUMMARY:投資信託3級 問題解説集 2026年度受験用
DTSTART;VALUE=DATE:20260519
DTEND;VALUE=DATE:20260520
UID:108135764369
DESCRIPTION:2026-05-20投資信託3級 問題解説集 2026年度受験用
 経済法令研究会
LOCATION:
END:VEVENT
END:VCALENDAR
