BEGIN:VCALENDAR
VERSION:2.0
PRODID:-//chikkutakku.com//RDFCal 1.0//EN
X-WR-CALDESC:GoogleカレンダーやiCalendar形式情報を共有シェ
 アしましょう。近所のイベントから全国のイベントま
 で今日のイベント検索やスケジュールを決めるならち
 っくたっく
X-WR-CALNAME:ちっくたっく
X-WR-TIMEZONE:UTC
BEGIN:VEVENT
SUMMARY:高嶺の華は乱れ咲き 14
DTSTART;VALUE=DATE:20260419
DTEND;VALUE=DATE:20260420
UID:108644160607
DESCRIPTION:2026-04-20高嶺の華は乱れ咲き 14いとうえい秋田
 書店
LOCATION:
END:VEVENT
END:VCALENDAR
