BEGIN:VCALENDAR
VERSION:2.0
PRODID:-//chikkutakku.com//RDFCal 1.0//EN
X-WR-CALDESC:GoogleカレンダーやiCalendar形式情報を共有シェ
 アしましょう。近所のイベントから全国のイベントま
 で今日のイベント検索やスケジュールを決めるならち
 っくたっく
X-WR-CALNAME:ちっくたっく
X-WR-TIMEZONE:UTC
BEGIN:VEVENT
SUMMARY:Seishin Futaba 黄帯 Yellow belt level
DTSTART;VALUE=DATE-TIME:20260511T150000Z
DTEND;VALUE=DATE-TIME:20260511T150000Z
UID:109363863919
DESCRIPTION:緑帯以上も参加可能\nGreen belt and above level can jo
 in if you want
LOCATION:清新ふたば小学校\, 日本、〒134-0087 東京都江戸
 川区清新町１丁目１−３８
END:VEVENT
END:VCALENDAR
