BEGIN:VCALENDAR
VERSION:2.0
PRODID:-//chikkutakku.com//RDFCal 1.0//EN
X-WR-CALDESC:GoogleカレンダーやiCalendar形式情報を共有シェ
 アしましょう。近所のイベントから全国のイベントま
 で今日のイベント検索やスケジュールを決めるならち
 っくたっく
X-WR-CALNAME:ちっくたっく
X-WR-TIMEZONE:UTC
BEGIN:VEVENT
SUMMARY:木村杯新人戦vs.立教大学 13:00PB @昭島市民球場
DTSTART;VALUE=DATE:20260522
DTEND;VALUE=DATE:20260523
UID:110263704157
DESCRIPTION:木村杯新人戦vs.立教大学 13:00PB @昭島市民球場
LOCATION:
END:VEVENT
END:VCALENDAR
