BEGIN:VCALENDAR
VERSION:2.0
PRODID:-//chikkutakku.com//RDFCal 1.0//EN
X-WR-CALDESC:GoogleカレンダーやiCalendar形式情報を共有シェ
 アしましょう。近所のイベントから全国のイベントま
 で今日のイベント検索やスケジュールを決めるならち
 っくたっく
X-WR-CALNAME:ちっくたっく
X-WR-TIMEZONE:UTC
BEGIN:VEVENT
SUMMARY: (14時)新・花緑弟子の会～解決！花緑一門～
DTSTART;VALUE=DATE:20260427
DTEND;VALUE=DATE:20260428
UID:110437039728
DESCRIPTION:お客様からの質問に答えます！\n出演：柳家勧
 之助・柳家緑太・柳家吉緑(各一席・トークあり)\n開場1
 3時半　開演14時　\n料金：1500円\nご予約・お問い合​わ
 せはらくごカ​フェまで\nrakugocafe@​hotm​ail.co.jp　\n電
 話03-6268-9818（​平日​12時～18時まで）
LOCATION:
END:VEVENT
END:VCALENDAR
