BEGIN:VCALENDAR
VERSION:2.0
PRODID:-//chikkutakku.com//RDFCal 1.0//EN
X-WR-CALDESC:GoogleカレンダーやiCalendar形式情報を共有シェ
 アしましょう。近所のイベントから全国のイベントま
 で今日のイベント検索やスケジュールを決めるならち
 っくたっく
X-WR-CALNAME:ちっくたっく
X-WR-TIMEZONE:UTC
BEGIN:VEVENT
SUMMARY:摘み取り収穫体験コースのみ受付可
DTSTART;VALUE=DATE:20260501
DTEND;VALUE=DATE:20260505
UID:110948040955
DESCRIPTION:摘み取り収穫体験コースのみ受付可
LOCATION:
END:VEVENT
END:VCALENDAR
