BEGIN:VCALENDAR
VERSION:2.0
PRODID:-//chikkutakku.com//RDFCal 1.0//EN
X-WR-CALDESC:GoogleカレンダーやiCalendar形式情報を共有シェ
 アしましょう。近所のイベントから全国のイベントま
 で今日のイベント検索やスケジュールを決めるならち
 っくたっく
X-WR-CALNAME:ちっくたっく
X-WR-TIMEZONE:UTC
BEGIN:VEVENT
SUMMARY:ประชุมเตรียมงาน Universiti Malaya So
 cial Impact Investment Symposium 2026 (Series 2): Accelerating Social Impa
 ct Investment through Social Value
DTSTART;VALUE=DATE-TIME:20260423T013000Z
DTEND;VALUE=DATE-TIME:20260423T023000Z
UID:112719644950
DESCRIPTION:ผช.ไพรัช\nผอ.กองแผนงาน\n
 ผช.เอษณา\nผอ.กองคลัง\nวิลาสิ
 นี อนุชิต อนัญญา\n\nTopic: ประชุม
 เตรียมงาน Universiti Malaya Social Impact Investment Sym
 posium 2026 (Series 2): Accelerating Social Impact Investment through Soci
 al Value\nTime: Apr 23\, 2026 09:00 AM Bangkok\nJoin Zoom Meeting\nhttps:/
 /cmu-th.zoom.us/j/96708709704\n\nMeeting ID: 967 0870 9704\n\n หาร
 ือเรื่องการโอนค่าใช้จ่าย
 จาก UM มา มช.\n หารือเตรียมงาน
 ในส่วนที่เกี่ยวข้องร่วมก
 ัน
LOCATION:Online
END:VEVENT
END:VCALENDAR
