BEGIN:VCALENDAR
VERSION:2.0
PRODID:-//chikkutakku.com//RDFCal 1.0//EN
X-WR-CALDESC:GoogleカレンダーやiCalendar形式情報を共有シェ
 アしましょう。近所のイベントから全国のイベントま
 で今日のイベント検索やスケジュールを決めるならち
 っくたっく
X-WR-CALNAME:ちっくたっく
X-WR-TIMEZONE:UTC
BEGIN:VEVENT
SUMMARY:【注】野生のラスボスが現れた！ #1 野生のラス
 ボスが現れた！ / #2 スヴェル国へやってきた！ / #3 ア
 リエスが攻めてきた！ / #4 裏で糸を引いていた！ / #5 
 野生の温泉が現れた！ / #6 天秤のリーブラが現れた！ /
  #7 救世主……だった！ / #8 ちょ―5%―マジか!?だった / 
 #9 民衆の暴動が起きた！ / #10 其方は何者だ！ / #11 野生
 のルファス・マファールと野生の魔神王が同時に現れ
 た!!! / #12 故郷にとんでもないものが存在した！
DTSTART;VALUE=DATE-TIME:20260424T210000Z
DTEND;VALUE=DATE-TIME:20260425T030000Z
UID:113287059208
DESCRIPTION: / #1 野生のラスボスが現れた！ / #2 スヴェル
 国へやってきた！ / #3 アリエスが攻めてきた！ / #4 裏
 で糸を引いていた！ / #5 野生の温泉が現れた！ / #6 天
 秤のリーブラが現れた！ / #7 救世主……だった！ / #8 
 ちょ―5%―マジか!?だった / #9 民衆の暴動が起きた！ / #
 10 其方は何者だ！ / #11 野生のルファス・マファールと
 野生の魔神王が同時に現れた!!! / #12 故郷にとんでもな
 いものが存在した！ / https://abema.tv/channels/isekai-anime/slots
 /Ah77miAVNM4ndm (無料TS1週間) ※リピート放送なし
LOCATION:異世界ファンタジー
END:VEVENT
END:VCALENDAR
