BEGIN:VCALENDAR
VERSION:2.0
PRODID:-//chikkutakku.com//RDFCal 1.0//EN
X-WR-CALDESC:GoogleカレンダーやiCalendar形式情報を共有シェ
 アしましょう。近所のイベントから全国のイベントま
 で今日のイベント検索やスケジュールを決めるならち
 っくたっく
X-WR-CALNAME:ちっくたっく
X-WR-TIMEZONE:UTC
BEGIN:VEVENT
SUMMARY:Fan Age Touring Club Expedition
DTSTART;VALUE=DATE-TIME:20260426T170000Z
DTEND;VALUE=DATE-TIME:20260426T183000Z
UID:113579687885
DESCRIPTION:Every other week\, the Fan Age Touring Club will visit an age 
 in the Open Cave. We will explore the age\, share our impressions\, try to
  find little-known secrets and get started with the puzzles if there are a
 ny. Today’s age: the City of Dimensions.  Stream at https://www.twitch
 .tv/korovvannoort More info are available in the guidelines post on the G
 oW forums:https://forum.guildofwriters.org/viewtopic.php?f=111&amp\;t=7140
  Recordings of the Twitch streams at Korov’ev’s Youtube channel:http
 s://www.youtube.com/playlist?list=PLKya7zc1Q4e4ko_QhOKnSJNiKb2zT3CM7 For 
 info on how to set up an Open Cave client\, see this page:https://www.the
 -open-cave.net/moul/how-to-play
LOCATION:The Open Cave MOUL (Fan Age Touring Club hood)
END:VEVENT
END:VCALENDAR
