BEGIN:VCALENDAR
VERSION:2.0
PRODID:-//chikkutakku.com//RDFCal 1.0//EN
X-WR-CALDESC:GoogleカレンダーやiCalendar形式情報を共有シェ
 アしましょう。近所のイベントから全国のイベントま
 で今日のイベント検索やスケジュールを決めるならち
 っくたっく
X-WR-CALNAME:ちっくたっく
X-WR-TIMEZONE:UTC
BEGIN:VEVENT
SUMMARY:【Android 対応】いもさらだ相談室
DTSTART;VALUE=DATE-TIME:20260421T110000Z
DTEND;VALUE=DATE-TIME:20260421T130000Z
UID:113986123531
DESCRIPTION:【イベント主催者】\n　いもさらだ\n【イベン
 ト内容】\n　1対1であなたのお話を聞きたい！\nどんな
 悩みでも話してみれば少しは軽くなるかもしれません
 。\n行き詰まった時に吐き出せる場所にできたらと思い
 ます。\n些細な質問、雑談でも構いません。\nvrchat、リ
 アルの話問わず気軽に参加してくださいね。\n招待をい
 ただいた順にご案内します。\n基本的には1人を想定し
 ていますが、早めに案内できる場合は招待をお送りす
 るのでお時間問題なければお越しくださいね。\nDMでの
 受付もしています。\n【イベントジャンル】\n　定期イ
 ベント\n【参加条件（モデル、人数制限など）】\n　常
 識の範囲内なら特に制限はありません。\n【参加方法】
 \n　「いもさらだ」にフレンド申請後、時間になったら
 参加したいとメッセージ付きの招待をお願いします。
 確認後そちらに招待をお送りします。\n時間の変更等を
 お願いする場合はメッセージをお返しするのでしばら
 くお待ちください。\n【備考】\n　イベント等経験が浅
 いので優しい目で見てください...！\n可能であればXのDM
 でご連絡いただけると助かります。(リンクはプロフィ
 ールに)\nイベント記載の日時以外でも時間が合えば出
 張しますのでお気軽にお声掛けください。
LOCATION:
END:VEVENT
END:VCALENDAR
