BEGIN:VCALENDAR
VERSION:2.0
PRODID:-//chikkutakku.com//RDFCal 1.0//EN
X-WR-CALDESC:GoogleカレンダーやiCalendar形式情報を共有シェ
 アしましょう。近所のイベントから全国のイベントま
 で今日のイベント検索やスケジュールを決めるならち
 っくたっく
X-WR-CALNAME:ちっくたっく
X-WR-TIMEZONE:UTC
BEGIN:VEVENT
SUMMARY:予算ゼロから始める「わが家の守り方」 地震で
 死ぬ家、生き残る家
DTSTART;VALUE=DATE:20260519
DTEND;VALUE=DATE:20260520
UID:114257350597
DESCRIPTION:2026-05-20予算ゼロから始める「わが家の守り方
 」 地震で死ぬ家、生き残る家森山高至双葉社
LOCATION:
END:VEVENT
END:VCALENDAR
