BEGIN:VCALENDAR
VERSION:2.0
PRODID:-//chikkutakku.com//RDFCal 1.0//EN
X-WR-CALDESC:GoogleカレンダーやiCalendar形式情報を共有シェ
 アしましょう。近所のイベントから全国のイベントま
 で今日のイベント検索やスケジュールを決めるならち
 っくたっく
X-WR-CALNAME:ちっくたっく
X-WR-TIMEZONE:UTC
BEGIN:VEVENT
SUMMARY:アレにもコレにも！ モノの数えかた事典
DTSTART;VALUE=DATE:20260428
DTEND;VALUE=DATE:20260429
UID:114758098491
DESCRIPTION:2026-04-29アレにもコレにも！ モノの数えかた事
 典こざき ゆう/モドロカポプラ社
LOCATION:
END:VEVENT
END:VCALENDAR
