BEGIN:VCALENDAR
VERSION:2.0
PRODID:-//chikkutakku.com//RDFCal 1.0//EN
X-WR-CALDESC:GoogleカレンダーやiCalendar形式情報を共有シェ
 アしましょう。近所のイベントから全国のイベントま
 で今日のイベント検索やスケジュールを決めるならち
 っくたっく
X-WR-CALNAME:ちっくたっく
X-WR-TIMEZONE:UTC
BEGIN:VEVENT
SUMMARY:★お天気キャスター蓬莱さんのドライブ予報 4/21(
 火)21:54-22:00 よみうりテレビ(近畿広域圏 Ch.10)
DTSTART;VALUE=DATE-TIME:20260421T125400Z
DTEND;VALUE=DATE-TIME:20260421T130000Z
UID:115156666122
DESCRIPTION:★お天気キャスター蓬莱さんのドライブ予報\n
 4/21(火)21:54-22:00 よみうりテレビ(近畿広域圏 Ch.10)\n和歌
 山・有田にみかんバーガー\n▽阪和道・有田ICを降り有
 田エリアへ▽農園直営みかんバーガーってどんな味？\n
 http://www.ytv.co.jp/hourai_drive/
LOCATION:
END:VEVENT
END:VCALENDAR
