BEGIN:VCALENDAR
VERSION:2.0
PRODID:-//chikkutakku.com//RDFCal 1.0//EN
X-WR-CALDESC:GoogleカレンダーやiCalendar形式情報を共有シェ
 アしましょう。近所のイベントから全国のイベントま
 で今日のイベント検索やスケジュールを決めるならち
 っくたっく
X-WR-CALNAME:ちっくたっく
X-WR-TIMEZONE:UTC
BEGIN:VEVENT
SUMMARY:神奈川トヨタ商事（株）
DTSTART;VALUE=DATE-TIME:20260424T235000Z
DTEND;VALUE=DATE-TIME:20260426T010000Z
UID:115480654208
DESCRIPTION:参加予定人数　２０名\n雨天中止\n参加対象　
 学校・社内行事
LOCATION:三浦市　荒井浜、胴網
END:VEVENT
END:VCALENDAR
