BEGIN:VCALENDAR
VERSION:2.0
PRODID:-//chikkutakku.com//RDFCal 1.0//EN
X-WR-CALDESC:GoogleカレンダーやiCalendar形式情報を共有シェ
 アしましょう。近所のイベントから全国のイベントま
 で今日のイベント検索やスケジュールを決めるならち
 っくたっく
X-WR-CALNAME:ちっくたっく
X-WR-TIMEZONE:UTC
BEGIN:VEVENT
SUMMARY:【Android 対応】ネオン倶楽部VuG
DTSTART;VALUE=DATE-TIME:20260424T120000Z
DTEND;VALUE=DATE-TIME:20260424T140000Z
UID:115635215816
DESCRIPTION:【イベント主催者】\n　トウヤン 1224\n【イベ
 ント内容】\n　ネオン煌めく場所でゆっくり雑談しなが
 らのんびり飲もう♪今日はスタッフみんな飲酒！\n【イ
 ベントジャンル】\n　VR飲み会\, 店舗系イベント\, 初心
 者向けイベント\, 定期イベント\n【参加条件（モデル、
 人数制限など）】\n　アバター重くなければおk\n【参加
 方法】\n　グループに参加！\nhttps://vrc.group/VUG.1233\n【備
 考】\n　
LOCATION:
END:VEVENT
END:VCALENDAR
