BEGIN:VCALENDAR
VERSION:2.0
PRODID:-//chikkutakku.com//RDFCal 1.0//EN
X-WR-CALDESC:GoogleカレンダーやiCalendar形式情報を共有シェ
 アしましょう。近所のイベントから全国のイベントま
 で今日のイベント検索やスケジュールを決めるならち
 っくたっく
X-WR-CALNAME:ちっくたっく
X-WR-TIMEZONE:UTC
BEGIN:VEVENT
SUMMARY:【終】鋼鉄天使くるみ 零 #3
DTSTART;VALUE=DATE-TIME:20260424T110000Z
DTEND;VALUE=DATE-TIME:20260424T111800Z
UID:115920298555
DESCRIPTION:3 /  / 
LOCATION:AT-X
END:VEVENT
END:VCALENDAR
