BEGIN:VCALENDAR
VERSION:2.0
PRODID:-//chikkutakku.com//RDFCal 1.0//EN
X-WR-CALDESC:GoogleカレンダーやiCalendar形式情報を共有シェ
 アしましょう。近所のイベントから全国のイベントま
 で今日のイベント検索やスケジュールを決めるならち
 っくたっく
X-WR-CALNAME:ちっくたっく
X-WR-TIMEZONE:UTC
BEGIN:VEVENT
SUMMARY:「Ryuon_s Coffee」
DTSTART;VALUE=DATE-TIME:20260424T130000Z
DTEND;VALUE=DATE-TIME:20260424T140000Z
UID:116058945325
DESCRIPTION:【イベント主催者】\n　yomogida_jp\n【イベント
 内容】\n　「Ryuon_s Coffee」\n4月24日（金）22時〜\nフレン
 ド+インスタンス\nリュオンくんがスタッフしてるカフ
 ェイベントです(⁠ ⁠≧⁠Д⁠≦⁠)\nどなたでもお気軽
 に遊びに来てください(⁠つ⁠≧⁠▽⁠≦⁠)⁠つ\n#VRchat
 \n#Ryuon3D\n写真をXに投稿の際は\n#Ryuon_sCoffee\nとタグ付け
 ください！\n【イベントジャンル】\n　改変アバター交
 流会\, 店舗系イベント\n【参加条件（モデル、人数制限
 など）】\n　マナーを持ってご参加ください\n【参加方
 法】\n　yomogida_jpにjoin\n【備考】\n　
LOCATION:
END:VEVENT
END:VCALENDAR
