BEGIN:VCALENDAR
VERSION:2.0
PRODID:-//chikkutakku.com//RDFCal 1.0//EN
X-WR-CALDESC:GoogleカレンダーやiCalendar形式情報を共有シェ
 アしましょう。近所のイベントから全国のイベントま
 で今日のイベント検索やスケジュールを決めるならち
 っくたっく
X-WR-CALNAME:ちっくたっく
X-WR-TIMEZONE:UTC
BEGIN:VEVENT
SUMMARY:(101、102)圖書館利用教育
DTSTART;VALUE=DATE-TIME:20260420T233500Z
DTEND;VALUE=DATE-TIME:20260421T000000Z
UID:116184396793
DESCRIPTION:(101、102)圖書館利用教育
LOCATION:圖書館二樓閱覽室
END:VEVENT
END:VCALENDAR
