BEGIN:VCALENDAR
VERSION:2.0
PRODID:-//chikkutakku.com//RDFCal 1.0//EN
X-WR-CALDESC:GoogleカレンダーやiCalendar形式情報を共有シェ
 アしましょう。近所のイベントから全国のイベントま
 で今日のイベント検索やスケジュールを決めるならち
 っくたっく
X-WR-CALNAME:ちっくたっく
X-WR-TIMEZONE:UTC
BEGIN:VEVENT
SUMMARY:毒矢の文化〈新装版〉
DTSTART;VALUE=DATE:20260517
DTEND;VALUE=DATE:20260518
UID:116431699624
DESCRIPTION:2026-05-18毒矢の文化〈新装版〉石川元助紀伊國
 屋書店
LOCATION:
END:VEVENT
END:VCALENDAR
