BEGIN:VCALENDAR
VERSION:2.0
PRODID:-//chikkutakku.com//RDFCal 1.0//EN
X-WR-CALDESC:GoogleカレンダーやiCalendar形式情報を共有シェ
 アしましょう。近所のイベントから全国のイベントま
 で今日のイベント検索やスケジュールを決めるならち
 っくたっく
X-WR-CALNAME:ちっくたっく
X-WR-TIMEZONE:UTC
BEGIN:VEVENT
SUMMARY:16:00報到 16:30中C區第三次區務會議暨選舉
DTSTART;VALUE=DATE:20260421
DTEND;VALUE=DATE:20260422
UID:116563447554
DESCRIPTION:16:00報到 16:30中C區第三次區務會議暨選舉
LOCATION:新天地崇德旗艦店(台中市北屯區崇德五路345號)
END:VEVENT
END:VCALENDAR
