BEGIN:VCALENDAR
VERSION:2.0
PRODID:-//chikkutakku.com//RDFCal 1.0//EN
X-WR-CALDESC:GoogleカレンダーやiCalendar形式情報を共有シェ
 アしましょう。近所のイベントから全国のイベントま
 で今日のイベント検索やスケジュールを決めるならち
 っくたっく
X-WR-CALNAME:ちっくたっく
X-WR-TIMEZONE:UTC
BEGIN:VEVENT
SUMMARY:第二種電気工事士試験（上期学科）
DTSTART;VALUE=DATE:20260523
DTEND;VALUE=DATE:20260524
UID:116972655277
DESCRIPTION:第二種電気工事士試験（上期学科）
LOCATION:
END:VEVENT
END:VCALENDAR
