BEGIN:VCALENDAR
VERSION:2.0
PRODID:-//chikkutakku.com//RDFCal 1.0//EN
X-WR-CALDESC:GoogleカレンダーやiCalendar形式情報を共有シェ
 アしましょう。近所のイベントから全国のイベントま
 で今日のイベント検索やスケジュールを決めるならち
 っくたっく
X-WR-CALNAME:ちっくたっく
X-WR-TIMEZONE:UTC
BEGIN:VEVENT
SUMMARY:Bank Holiday
DTSTART;VALUE=DATE-TIME:20260504T180000Z
DTEND;VALUE=DATE-TIME:20260504T190000Z
UID:117529573933
DESCRIPTION:No dance class with Clive Hurt.
LOCATION:Gibson hall of Downing Place URC\, Cambridge CB2 3EL
END:VEVENT
END:VCALENDAR
