BEGIN:VCALENDAR
VERSION:2.0
PRODID:-//chikkutakku.com//RDFCal 1.0//EN
X-WR-CALDESC:GoogleカレンダーやiCalendar形式情報を共有シェ
 アしましょう。近所のイベントから全国のイベントま
 で今日のイベント検索やスケジュールを決めるならち
 っくたっく
X-WR-CALNAME:ちっくたっく
X-WR-TIMEZONE:UTC
BEGIN:VEVENT
SUMMARY:🚀🇺🇸🛰️✨ 【04/23(木) 11:00 打ち上げ予定】 S
 tarlink Group 17-14 打ち上げミッション
DTSTART;VALUE=DATE-TIME:20260423T015000Z
DTEND;VALUE=DATE-TIME:20260423T025000Z
UID:117692922260
DESCRIPTION:🚀🇺🇸🛰️✨ 【04/23(木) 11:00 打ち上げ予定
 】 Starlink Group 17-14 打ち上げミッション #ascl #33ast #sorayo 
 #33fan #SpaceX #Starlink #Falcon9SpaceX ファルコン9が、カリフォ
 ルニア州のヴァンデンバーグ宇宙軍基地から25機のスタ
 ーリンク衛星を打ち上げます。📺 ライブ配信 (10:50 JST
 開始予定) [Xライブ] https://x.com/i/broadcasts/1pKkOyjbgVdKj [Space
 X公式] https://www.spacex.com/launches/sl-17-14✅ ミッションハイ
 ライト 🗓 打上日時: 04/23(木) 11:00:00 JST (目標時刻) 🪟 
 打ち上げウィンドウ: 11:00 - 15:00 JST 📍 着艦先: ドロー
 ン船 "Of Course I Still Love You" (OCISLY) 🚀🌊 ⏱ 着艦時刻: 11
 :08:13 JST (T+00:08:13 予定) 🛰 ペイロード: Starlink 衛星 (25
 機)✨ 第1段ブースター情報：B1100 ✨ このブースターは
 今回で5回目の飛行となります。これまでに機密ミッシ
 ョンのNROL-105や3回のStarlinkミッションを成功させてきま
 した。今回は太平洋上に待機するドローン船（OCISLY）
 への着艦に挑みます。 ※打ち上げ時、カリフォルニア
 州の一部地域でソニックブームが聞こえる可能性があ
 ります。
LOCATION:
END:VEVENT
END:VCALENDAR
