BEGIN:VCALENDAR
VERSION:2.0
PRODID:-//chikkutakku.com//RDFCal 1.0//EN
X-WR-CALDESC:GoogleカレンダーやiCalendar形式情報を共有シェ
 アしましょう。近所のイベントから全国のイベントま
 で今日のイベント検索やスケジュールを決めるならち
 っくたっく
X-WR-CALNAME:ちっくたっく
X-WR-TIMEZONE:UTC
BEGIN:VEVENT
SUMMARY:Number 9
DTSTART;VALUE=DATE-TIME:20260428T120000Z
DTEND;VALUE=DATE-TIME:20260428T145900Z
UID:118228037511
DESCRIPTION:【イベント主催者】\n　手稲前田\n【イベント
 内容】\n　ノイズ、アンビエント、実験音楽、即興演奏
 など      \n【イベントジャンル】\n　音楽系イベント\n
 【参加条件（モデル、人数制限など）】\n　\n【参加方
 法】\n　Group+\n【備考】\n　
LOCATION:
END:VEVENT
END:VCALENDAR
