BEGIN:VCALENDAR
VERSION:2.0
PRODID:-//chikkutakku.com//RDFCal 1.0//EN
X-WR-CALDESC:GoogleカレンダーやiCalendar形式情報を共有シェ
 アしましょう。近所のイベントから全国のイベントま
 で今日のイベント検索やスケジュールを決めるならち
 っくたっく
X-WR-CALNAME:ちっくたっく
X-WR-TIMEZONE:UTC
BEGIN:VEVENT
SUMMARY:Volunteer Training_Cycling - Beyond the Basics
DTSTART;VALUE=DATE-TIME:20260508T153000Z
DTEND;VALUE=DATE-TIME:20260508T200000Z
UID:118236290258
DESCRIPTION:During this clinic\, you can expect a quick refresher of the f
 low of the day and what the roles and responsibilities are as a volunteer 
 on a road cycling program. We will review our bike fleet and dive deeper i
 nto some specific bikes that are less commonly used. For those less common
 ly used bikes\, we will talk about fit up/set up\, operation controls and 
 spend time riding those bikes. We will go into skill progression and teach
 ing tools that we can use to help our participants become more proficient 
 on their bike. The day will wrap up by running through some mock lesson sc
 enarios and practical application of the content we covered. This clinic w
 ill go into more detail about the technical lessons we might see come thro
 ugh the program.Experience: Have taken a road cycling clinic with ASA or a
 nother program in the past. This clinic is tailored towards returning volu
 nteers that are looking to dive into more technical detail about our cycli
 ng program.
LOCATION:
END:VEVENT
END:VCALENDAR
