BEGIN:VCALENDAR
VERSION:2.0
PRODID:-//chikkutakku.com//RDFCal 1.0//EN
X-WR-CALDESC:GoogleカレンダーやiCalendar形式情報を共有シェ
 アしましょう。近所のイベントから全国のイベントま
 で今日のイベント検索やスケジュールを決めるならち
 っくたっく
X-WR-CALNAME:ちっくたっく
X-WR-TIMEZONE:UTC
BEGIN:VEVENT
SUMMARY:鳥と詩人
DTSTART;VALUE=DATE:20260426
DTEND;VALUE=DATE:20260427
UID:118614347829
DESCRIPTION:2026-04-27鳥と詩人ジョン・バローズ/田中浩司新
 評論
LOCATION:
END:VEVENT
END:VCALENDAR
