BEGIN:VCALENDAR
VERSION:2.0
PRODID:-//chikkutakku.com//RDFCal 1.0//EN
X-WR-CALDESC:GoogleカレンダーやiCalendar形式情報を共有シェ
 アしましょう。近所のイベントから全国のイベントま
 で今日のイベント検索やスケジュールを決めるならち
 っくたっく
X-WR-CALNAME:ちっくたっく
X-WR-TIMEZONE:UTC
BEGIN:VEVENT
SUMMARY:【無言勢・ボイチャ両対応】無言勢男性キャスト
 BarSERENE
DTSTART;VALUE=DATE-TIME:20260424T140000Z
DTEND;VALUE=DATE-TIME:20260424T145900Z
UID:119195369125
DESCRIPTION:【イベント主催者】\n　yullshul_ユルシュル\n【
 イベント内容】\n　SERENEは、男性アバターの無言勢キャ
 ストが営むバーイベントです。\n声を使わないからこそ
 生まれる、独特の空気があります。\n\n筆談で言葉を選
 ぶ、あの少しの間。\n身振りで伝える、ちょっとした気
 遣い。\n男性アバターの所作が重なると、\nそれは「素
 敵なお兄さん」の接客になる。\n\nSERENEは、キャストだ
 けを楽しむ場ではありません。\n隣に座った誰かと、ゆ
 るやかにつながる夜。\nクラシカルなバーのように、\n
 「そこに集まる人と空間」そのものを味わう場所です
 。\n\n\n急がなくていい。\nここでは、言葉を待つ時間も
 心地よいから。\n\nお客様は有言・無言どちらでも歓迎
 です。\n落ち着いた接客のカウンター、賑やかなラウン
 ドテーブル席、\nどちらも魅力的なキャストがお迎えし
 ます。\n【イベントジャンル】\n　店舗系イベント\, 定
 期イベント\n【参加条件（モデル、人数制限など）】\n
 　特にございませんが、NSFWや他の方がご不快に思われ
 るアバター、パーティクルなどはご遠慮ください。\nま
 た、当店では無許可での配信はご遠慮いただいており
 ますので、配信される場合は一言店長へいただけます
 ようよろしくお願いいたします。\n【参加方法】\n　Grou
 p+での開催となりますので、当日までにグループ【SERENE
 .5181】へ参加を行っていただくとスムーズにご入室でき
 ます。\n【備考】\n　https://vrchat.com/home/group/grp_c1cbbca0-3a4
 3-4c77-9b96-ed58f9259d7c/calendar/cal_8c6b2831-7e6d-44f7-9707-57045ef9cfcb
LOCATION:
END:VEVENT
END:VCALENDAR
