BEGIN:VCALENDAR
VERSION:2.0
PRODID:-//chikkutakku.com//RDFCal 1.0//EN
X-WR-CALDESC:GoogleカレンダーやiCalendar形式情報を共有シェ
 アしましょう。近所のイベントから全国のイベントま
 で今日のイベント検索やスケジュールを決めるならち
 っくたっく
X-WR-CALNAME:ちっくたっく
X-WR-TIMEZONE:UTC
BEGIN:VEVENT
SUMMARY:マルセロ木村＆尾花 毅　ギターDUO
DTSTART;VALUE=DATE:20260520
DTEND;VALUE=DATE:20260521
UID:119242725468
DESCRIPTION:Open：１８：３０　Start ：１９：３０ MC：３５
 ００円　１drink＋１Food〈10％税〉 マルセロ木村〈Gt〉 
  尾花 毅〈Gt〉    ●ご予約ご予約 – Espaço Brasil〈エ
 スパッソ・ブラジル〉 (espacobrasiljp.com)
LOCATION:
END:VEVENT
END:VCALENDAR
