BEGIN:VCALENDAR
VERSION:2.0
PRODID:-//chikkutakku.com//RDFCal 1.0//EN
X-WR-CALDESC:GoogleカレンダーやiCalendar形式情報を共有シェ
 アしましょう。近所のイベントから全国のイベントま
 で今日のイベント検索やスケジュールを決めるならち
 っくたっく
X-WR-CALNAME:ちっくたっく
X-WR-TIMEZONE:UTC
BEGIN:VEVENT
SUMMARY:【RPホストイベント】Ever After
DTSTART;VALUE=DATE-TIME:20260426T120000Z
DTEND;VALUE=DATE-TIME:20260426T133000Z
UID:119514815460
DESCRIPTION:【イベント主催者】\n　Ever After\n【イベント内
 容】\n　イベント本編終了後にグループインスタンスに
 てオープンアフターあり！\n\n「暗くて不安だよね、で
 も俺がいるから大丈夫」\n おとぎ話×ホスト×？？？\n
 気が付くと知らない森の中に迷い込んでいたあなた。\n
 ランタンを持つ青年に連れられて辿り着いた森の奥の
 屋敷で、「主人公」と呼ばれる青年たちからのおもて
 なしを受けます。\n\n-----------------------\n\n当イベントはR
 Pホストイベントです。\n暗い森の奥にあるお屋敷で帰
 りの準備が整うまでの限られた時間を、おとぎ話の主
 人公を名乗る青年たちと過ごすことができます。\n\n※
 一部暗いエリアがございますが、ホラー演出やジャン
 プスケアは一切ありませんので安心してお越しくださ
 い。\n【イベントジャンル】\n　店舗系イベント\, ロー
 ルプレイ\n【参加条件（モデル、人数制限など）】\n　
 以下にあてはまる方はご参加いただけません。\n\n・版
 権アバターや50MB以上を超える大容量アバターなど、他
 のお客様のご迷惑になる可能性があるアバターを使用
 する方。\n\n・VCを使用した日本語でのコミュニケーシ
 ョンが困難な方。\n\n・注意事項をお守りいただけない
 方\n\n・その他当イベントが迷惑と判断した方\n【参加
 方法】\n　下記フォームより事前抽選にご応募ください
 。\nhttps://forms.gle/v6QZcczH3seCRvxU6\n当日枠もご用意してお
 ります。\n\nオープンアフターはグループインスタンス
 となります。\n事前にグループへのご参加をお願いいた
 します。\nhttps://vrchat.com/home/group/grp_64b29385-aeb4-4844-82c0-8d
 35b42b5ede\n【備考】\n　当日の感想は #エバアフVRC でぜひ
 ポストしていただけるとうれしいです…！\n公式X：https
 ://x.com/EverAfter_VRC
LOCATION:
END:VEVENT
END:VCALENDAR
