BEGIN:VCALENDAR
VERSION:2.0
PRODID:-//chikkutakku.com//RDFCal 1.0//EN
X-WR-CALDESC:GoogleカレンダーやiCalendar形式情報を共有シェ
 アしましょう。近所のイベントから全国のイベントま
 で今日のイベント検索やスケジュールを決めるならち
 っくたっく
X-WR-CALNAME:ちっくたっく
X-WR-TIMEZONE:UTC
BEGIN:VEVENT
SUMMARY:【Android 対応】第38回VRC編み会【花見】
DTSTART;VALUE=DATE-TIME:20260422T130000Z
DTEND;VALUE=DATE-TIME:20260422T140000Z
UID:119747295448
DESCRIPTION:【イベント主催者】\n　しらき@水陸両用\n【イ
 ベント内容】\n　外で編み物、複数人での編み物会、リ
 アルではちょっと勇気が出ないそんな時も\nVRなら大丈
 夫。ゆったり編み物しませんか？\n\n技法、レベル不問
 。VC無しでも大丈夫です。\n【イベントジャンル】\n　
 その他交流会\, 定期イベント\n【参加条件（モデル、人
 数制限など）】\n　\n【参加方法】\n　「編み物する場
 所」グループインスタンスにjoin\n【備考】\n　
LOCATION:
END:VEVENT
END:VCALENDAR
