BEGIN:VCALENDAR
VERSION:2.0
PRODID:-//chikkutakku.com//RDFCal 1.0//EN
X-WR-CALDESC:GoogleカレンダーやiCalendar形式情報を共有シェ
 アしましょう。近所のイベントから全国のイベントま
 で今日のイベント検索やスケジュールを決めるならち
 っくたっく
X-WR-CALNAME:ちっくたっく
X-WR-TIMEZONE:UTC
BEGIN:VEVENT
SUMMARY:『 YSS 夜桜ライブ 』#YSS_HomeLive #26
DTSTART;VALUE=DATE-TIME:20260425T125000Z
DTEND;VALUE=DATE-TIME:20260425T143000Z
UID:119787798040
DESCRIPTION:【イベント主催者】\n　VR音楽ユニット YSS\n【
 イベント内容】\n　月と星空のYSS夜桜ワールドで楽しむ
 、お花見ライブ！\nVRChat、配信から参加OK。ぜひ遊びに
 来てね！\n【イベントジャンル】\n　音楽系イベント\n
 【参加条件（モデル、人数制限など）】\n　配信に映っ
 ても問題のないアバターでのご来場をお願いいたしま
 す。\n【参加方法】\n　【Group+】https://vrc.group/YSS.8431\n【
 備考】\n　【YouTube配信】https://www.youtube.com/live/LRre3hAZOvY?
 si=N5SbZrPiuS1isI_A
LOCATION:
END:VEVENT
END:VCALENDAR
