BEGIN:VCALENDAR
VERSION:2.0
PRODID:-//chikkutakku.com//RDFCal 1.0//EN
X-WR-CALDESC:GoogleカレンダーやiCalendar形式情報を共有シェ
 アしましょう。近所のイベントから全国のイベントま
 で今日のイベント検索やスケジュールを決めるならち
 っくたっく
X-WR-CALNAME:ちっくたっく
X-WR-TIMEZONE:UTC
BEGIN:VEVENT
SUMMARY:働くこと、生きること、つながること　―ダイコ
 クさんが教えてくれた仕事と人生のヒント―
DTSTART;VALUE=DATE:20260422
DTEND;VALUE=DATE:20260423
UID:120167337776
DESCRIPTION:2026-04-23働くこと、生きること、つながること
 　―ダイコクさんが教えてくれた仕事と人生のヒント
 ―新田信行/中島宏明マイナビ出版
LOCATION:
END:VEVENT
END:VCALENDAR
