BEGIN:VCALENDAR
VERSION:2.0
PRODID:-//chikkutakku.com//RDFCal 1.0//EN
X-WR-CALDESC:GoogleカレンダーやiCalendar形式情報を共有シェ
 アしましょう。近所のイベントから全国のイベントま
 で今日のイベント検索やスケジュールを決めるならち
 っくたっく
X-WR-CALNAME:ちっくたっく
X-WR-TIMEZONE:UTC
BEGIN:VEVENT
SUMMARY:まっぷる おいしい道の駅ドライブ 名古屋・東海
DTSTART;VALUE=DATE:20260520
DTEND;VALUE=DATE:20260521
UID:121212472619
DESCRIPTION:2026-05-21まっぷる おいしい道の駅ドライブ 名
 古屋・東海昭文社 旅行ガイドブック 編集部昭文社
LOCATION:
END:VEVENT
END:VCALENDAR
