BEGIN:VCALENDAR
VERSION:2.0
PRODID:-//chikkutakku.com//RDFCal 1.0//EN
X-WR-CALDESC:GoogleカレンダーやiCalendar形式情報を共有シェ
 アしましょう。近所のイベントから全国のイベントま
 で今日のイベント検索やスケジュールを決めるならち
 っくたっく
X-WR-CALNAME:ちっくたっく
X-WR-TIMEZONE:UTC
BEGIN:VEVENT
SUMMARY:【競馬バー】青葉賞【WINNER’S CICLE】
DTSTART;VALUE=DATE-TIME:20260424T120000Z
DTEND;VALUE=DATE-TIME:20260424T130000Z
UID:121894290128
DESCRIPTION:【イベント主催者】\n　どすちゃん(@dosukebe_na_)
 \n【イベント内容】\n　VRC競馬バー 『WINNER'S CIRCLE 』\n\n
 今回は『青葉賞』を中心に予想していきます！\n店内に
 は馬券予想ができるスペースや、どんなレースや騎手
 や馬が好きか一目でわかるタグ機能などがあります！\n
 競馬のやり方がわからなければオーナーが動画をもと
 に解説します！\n毎週金曜日21時から開催予定\n馬券予
 想をしたり名レースをみたり。\nみんなで一緒に競馬を
 楽しみましょう！\n【イベントジャンル】\n　その他交
 流会\, 定期イベント\n【参加条件（モデル、人数制限な
 ど）】\n　・競馬好きの方、または興味のある方！\n・
 アバター容量60MBまで\n【参加方法】\n　グループ＋で開
 催、\nhttps://vrc.group/KEIBAR.9108\n時間になったらグループ
 インスタンスorどすちゃん(dosu_chan)にjoin\n【備考】\n　
 ・版権アバター\n・ダウンロード容量60MB以上のアバタ
 ー\n・過度な露出などNSFWに該当するアバター\n・他者の
 迷惑になるような、巨大化、過度なパーティクル、騒
 音等のアバター ・無許可での動画撮影及び録画 ・その
 他荒らし行為等\n\nこちらに反する行為、アバターを発
 見した場合はキック、ブロック等の対応を行いま\nす。
 こちらのルールは予告なく変更される可能性がありま
 す。ご了承ください
LOCATION:
END:VEVENT
END:VCALENDAR
