BEGIN:VCALENDAR
VERSION:2.0
PRODID:-//chikkutakku.com//RDFCal 1.0//EN
X-WR-CALDESC:GoogleカレンダーやiCalendar形式情報を共有シェ
 アしましょう。近所のイベントから全国のイベントま
 で今日のイベント検索やスケジュールを決めるならち
 っくたっく
X-WR-CALNAME:ちっくたっく
X-WR-TIMEZONE:UTC
BEGIN:VEVENT
SUMMARY:竜に育てられた最強（8）
DTSTART;VALUE=DATE:20260520
DTEND;VALUE=DATE:20260521
UID:122970026444
DESCRIPTION:2026-05-21竜に育てられた最強（8）epina/すかいふ
 ぁーむ/ふじさきやちよ実業之日本社
LOCATION:
END:VEVENT
END:VCALENDAR
