BEGIN:VCALENDAR
VERSION:2.0
PRODID:-//chikkutakku.com//RDFCal 1.0//EN
X-WR-CALDESC:GoogleカレンダーやiCalendar形式情報を共有シェ
 アしましょう。近所のイベントから全国のイベントま
 で今日のイベント検索やスケジュールを決めるならち
 っくたっく
X-WR-CALNAME:ちっくたっく
X-WR-TIMEZONE:UTC
BEGIN:VEVENT
SUMMARY:STI 07:30 - 16:00 Eurodam (2\,104)
DTSTART;VALUE=DATE:20260506
DTEND;VALUE=DATE:20260507
UID:124102838587
DESCRIPTION:STI 07:30 - 16:00 Eurodam (2\,104)
LOCATION:
END:VEVENT
END:VCALENDAR
