BEGIN:VCALENDAR
VERSION:2.0
PRODID:-//chikkutakku.com//RDFCal 1.0//EN
X-WR-CALDESC:GoogleカレンダーやiCalendar形式情報を共有シェ
 アしましょう。近所のイベントから全国のイベントま
 で今日のイベント検索やスケジュールを決めるならち
 っくたっく
X-WR-CALNAME:ちっくたっく
X-WR-TIMEZONE:UTC
BEGIN:VEVENT
SUMMARY:第74回ARCANE~R3cky回~
DTSTART;VALUE=DATE-TIME:20260421T120000Z
DTEND;VALUE=DATE-TIME:20260421T140000Z
UID:124139071040
DESCRIPTION:【イベント主催者】\n　音葉せらむ\n【イベン
 ト内容】\n　オールジャンルのDJイベントになります！\
 n今回はハードは音が沢山流れます！\n素敵なDJ達による
 激しいパフォーマンスや実写でのパフォーマンスもあ
 ります！\n音楽・ダンス・映像で楽しめますので是非遊
 びに来てください🐰\n【イベントジャンル】\n　音楽系
 イベント\, 初心者向けイベント\, 定期イベント\n【参加
 条件（モデル、人数制限など）】\n　過度に大きなアバ
 ターの使用、視界ジャックの使用、アバターやボイス
 から音楽を流す行為等禁止です。\n【参加方法】\n　グ
 ループ＋で開催いたします。グループから参加(https://vr
 c.group/SERA.0980)から参加お願いします！5分前にインスタ
 ンスからjoinお願いします！\n【備考】\n　
LOCATION:
END:VEVENT
END:VCALENDAR
