BEGIN:VCALENDAR
VERSION:2.0
PRODID:-//chikkutakku.com//RDFCal 1.0//EN
X-WR-CALDESC:GoogleカレンダーやiCalendar形式情報を共有シェ
 アしましょう。近所のイベントから全国のイベントま
 で今日のイベント検索やスケジュールを決めるならち
 っくたっく
X-WR-CALNAME:ちっくたっく
X-WR-TIMEZONE:UTC
BEGIN:VEVENT
SUMMARY:財務省とマスコミに騙されない経済数字の読み方
DTSTART;VALUE=DATE:20260519
DTEND;VALUE=DATE:20260520
UID:124758688132
DESCRIPTION:2026-05-20財務省とマスコミに騙されない経済数
 字の読み方高橋洋一双葉社
LOCATION:
END:VEVENT
END:VCALENDAR
