BEGIN:VCALENDAR
VERSION:2.0
PRODID:-//chikkutakku.com//RDFCal 1.0//EN
X-WR-CALDESC:GoogleカレンダーやiCalendar形式情報を共有シェ
 アしましょう。近所のイベントから全国のイベントま
 で今日のイベント検索やスケジュールを決めるならち
 っくたっく
X-WR-CALNAME:ちっくたっく
X-WR-TIMEZONE:UTC
BEGIN:VEVENT
SUMMARY:美味しんぼ名品集 65 青緑色の背中がキラリと光
 る！ 青魚編
DTSTART;VALUE=DATE:20260430
DTEND;VALUE=DATE:20260501
UID:124917290433
DESCRIPTION:2026-05-01美味しんぼ名品集 65 青緑色の背中がキ
 ラリと光る！ 青魚編雁屋 哲小学館
LOCATION:
END:VEVENT
END:VCALENDAR
