BEGIN:VCALENDAR
VERSION:2.0
PRODID:-//chikkutakku.com//RDFCal 1.0//EN
X-WR-CALDESC:GoogleカレンダーやiCalendar形式情報を共有シェ
 アしましょう。近所のイベントから全国のイベントま
 で今日のイベント検索やスケジュールを決めるならち
 っくたっく
X-WR-CALNAME:ちっくたっく
X-WR-TIMEZONE:UTC
BEGIN:VEVENT
SUMMARY:courtesea＠古町どんどん2026春
DTSTART;VALUE=DATE-TIME:20260509T050000Z
DTEND;VALUE=DATE-TIME:20260509T053000Z
UID:125052468318
DESCRIPTION:05/09（土）\n\n【古町５】\n10:00-10:30 カウラオナ
 ープアケア\n11:00-12:30 EMK、YellowM∞N\n12:30-12:45 古町芸妓\n
 13:00-13:20 てっと君\n14:00-14:30 courtesea\n15:00-15:30 Mondeo\n16:00
 -16:30 東京力車\n\n【古町７】\n10:00-10:10 横山実郁：開会
 宣言\n10:30-11:00 Mondeo\n11:15-11:45 大道芸学ちゃん\n12:00-12:15
  古町芸妓\n12:30-13:00 カフラオナープアケア\n13:30-14:00 東
 京力車\n14:30-15:00 ハーラウ・オ・ケアロプアケア\n15:30-1
 6:00 スターリー☆アーティストアカデミー\n16:30-17:00 cour
 tesea\n17:30-18:30 横山実郁プロデュース「夜のどんどん」
LOCATION:５番町\, 日本、〒951-8063 新潟県新潟市中央区古
 町通５番町
END:VEVENT
END:VCALENDAR
