BEGIN:VCALENDAR
VERSION:2.0
PRODID:-//chikkutakku.com//RDFCal 1.0//EN
X-WR-CALDESC:GoogleカレンダーやiCalendar形式情報を共有シェ
 アしましょう。近所のイベントから全国のイベントま
 で今日のイベント検索やスケジュールを決めるならち
 っくたっく
X-WR-CALNAME:ちっくたっく
X-WR-TIMEZONE:UTC
BEGIN:VEVENT
SUMMARY:バーチャル猫カフェ🐈「もっちんぐキャット」
DTSTART;VALUE=DATE-TIME:20260426T130000Z
DTEND;VALUE=DATE-TIME:20260426T140000Z
UID:125312450322
DESCRIPTION:【イベント主催者】\n　mochi_もちちゃん\n【イ
 ベント内容】\n　ねこたちと戯れて日頃の疲れを癒され
 てもらうイベントです。ねこちゃんたちは喋りません
 。猫なので。個性豊かなねこちゃんたちと、遊ぶもよ
 し、なでるもよし、一緒に写真撮るもよし！皆様のご
 来店をお待ちしております！\n【イベントジャンル】\n
 　店舗系イベント\, ロールプレイ\, 初心者向けイベン
 ト\, 定期イベント\n【参加条件（モデル、人数制限など
 ）】\n　日本語でのコミュニケーションが取れる方\n【
 参加方法】\n　グループ「もっちんぐキャット」に入っ
 て、当日時間になったらjoinしてください\n【備考】\n　
 https://x.com/motchingcat_vrc/status/2041125950835101765?s=20\nhttps://x.g
 d/D8IjR
LOCATION:
END:VEVENT
END:VCALENDAR
